BEGIN:VCALENDAR
VERSION:2.0
PRODID:-//Heritage Baptist Church - ECPv6.15.20//NONSGML v1.0//EN
CALSCALE:GREGORIAN
METHOD:PUBLISH
X-WR-CALNAME:Heritage Baptist Church
X-ORIGINAL-URL:https://www.hbcdg.org
X-WR-CALDESC:Events for Heritage Baptist Church
REFRESH-INTERVAL;VALUE=DURATION:PT1H
X-Robots-Tag:noindex
X-PUBLISHED-TTL:PT1H
BEGIN:VTIMEZONE
TZID:UTC
BEGIN:STANDARD
TZOFFSETFROM:+0000
TZOFFSETTO:+0000
TZNAME:UTC
DTSTART:20240101T000000
END:STANDARD
END:VTIMEZONE
BEGIN:VEVENT
DTSTART;TZID=UTC:20250717T110000
DTEND;TZID=UTC:20250717T130000
DTSTAMP:20260423T133725
CREATED:20250102T202412Z
LAST-MODIFIED:20250102T202412Z
UID:2052-1752750000-1752757200@www.hbcdg.org
SUMMARY:Pioneers - 55+ 3rd Thursday Monthly
DESCRIPTION:
URL:https://www.hbcdg.org/event/pioneers-55-3rd-thursday-monthly-15/
LOCATION:Fellowship Hall 8800 Rose Ave\, Douglasville\, GA 30134\, USA
CATEGORIES:Outreach Ministry
END:VEVENT
BEGIN:VEVENT
DTSTART;TZID=UTC:20250722T190000
DTEND;TZID=UTC:20250722T210000
DTSTAMP:20260423T133725
CREATED:20250613T111408Z
LAST-MODIFIED:20250613T111408Z
UID:2288-1753210800-1753218000@www.hbcdg.org
SUMMARY:AtOne Recovery
DESCRIPTION:Meal served 6:30 pm\, childcare provided.
URL:https://www.hbcdg.org/event/atone-recovery-103/
LOCATION:Fellowship Hall 8800 Rose Ave\, Douglasville\, GA 30134\, USA
CATEGORIES:Outreach Ministry
END:VEVENT
BEGIN:VEVENT
DTSTART;TZID=UTC:20250729T190000
DTEND;TZID=UTC:20250729T210000
DTSTAMP:20260423T133725
CREATED:20250613T111241Z
LAST-MODIFIED:20250613T111241Z
UID:2287-1753815600-1753822800@www.hbcdg.org
SUMMARY:AtOne Recovery
DESCRIPTION:Meal served 6:30 pm\, childcare provided.
URL:https://www.hbcdg.org/event/atone-recovery-102/
LOCATION:Fellowship Hall 8800 Rose Ave\, Douglasville\, GA 30134\, USA
CATEGORIES:Outreach Ministry
END:VEVENT
BEGIN:VEVENT
DTSTART;TZID=UTC:20250804T180000
DTEND;TZID=UTC:20250804T190000
DTSTAMP:20260423T133725
CREATED:20250728T133452Z
LAST-MODIFIED:20250728T133452Z
UID:2359-1754330400-1754334000@www.hbcdg.org
SUMMARY:Benton House - Bible Study\, 1st Monday Monthly
DESCRIPTION:
URL:https://www.hbcdg.org/event/benton-house-bible-study-1st-monday-monthly-10/
LOCATION:Benton House Douglasville\, Ga\, 4999 Prestley Mill Rd\, Douglasville\, GA\, United States
CATEGORIES:Outreach Ministry
END:VEVENT
BEGIN:VEVENT
DTSTART;TZID=UTC:20250805T190000
DTEND;TZID=UTC:20250805T210000
DTSTAMP:20260423T133725
CREATED:20250728T130515Z
LAST-MODIFIED:20250728T130515Z
UID:2342-1754420400-1754427600@www.hbcdg.org
SUMMARY:AtOne Recovery
DESCRIPTION:Meal served 6:30 PM \nChildcare provided.
URL:https://www.hbcdg.org/event/atone-recovery-104/
LOCATION:Fellowship Hall 8800 Rose Ave\, Douglasville\, GA 30134\, USA
CATEGORIES:Outreach Ministry
END:VEVENT
BEGIN:VEVENT
DTSTART;TZID=UTC:20250812T190000
DTEND;TZID=UTC:20250812T210000
DTSTAMP:20260423T133725
CREATED:20250728T130606Z
LAST-MODIFIED:20250728T130606Z
UID:2343-1755025200-1755032400@www.hbcdg.org
SUMMARY:AtOne Recovery
DESCRIPTION:Meal served 6:30 PM \nChildcare provided.
URL:https://www.hbcdg.org/event/atone-recovery-105/
LOCATION:Fellowship Hall 8800 Rose Ave\, Douglasville\, GA 30134\, USA
CATEGORIES:Outreach Ministry
END:VEVENT
BEGIN:VEVENT
DTSTART;TZID=UTC:20250819T190000
DTEND;TZID=UTC:20250819T210000
DTSTAMP:20260423T133725
CREATED:20250728T130655Z
LAST-MODIFIED:20250728T130655Z
UID:2344-1755630000-1755637200@www.hbcdg.org
SUMMARY:AtOne Recovery
DESCRIPTION:Meal served 6:30 PM \nChildcare provided.
URL:https://www.hbcdg.org/event/atone-recovery-106/
LOCATION:Fellowship Hall 8800 Rose Ave\, Douglasville\, GA 30134\, USA
CATEGORIES:Outreach Ministry
END:VEVENT
BEGIN:VEVENT
DTSTART;TZID=UTC:20250821T110000
DTEND;TZID=UTC:20250821T130000
DTSTAMP:20260423T133725
CREATED:20250102T202505Z
LAST-MODIFIED:20250102T202505Z
UID:2053-1755774000-1755781200@www.hbcdg.org
SUMMARY:Pioneers - 55+ 3rd Thursday Monthly
DESCRIPTION:
URL:https://www.hbcdg.org/event/pioneers-55-3rd-thursday-monthly-16/
LOCATION:Fellowship Hall 8800 Rose Ave\, Douglasville\, GA 30134\, USA
CATEGORIES:Outreach Ministry
END:VEVENT
BEGIN:VEVENT
DTSTART;TZID=UTC:20250826T190000
DTEND;TZID=UTC:20250826T210000
DTSTAMP:20260423T133725
CREATED:20250728T130756Z
LAST-MODIFIED:20250728T130756Z
UID:2345-1756234800-1756242000@www.hbcdg.org
SUMMARY:AtOne Recovery
DESCRIPTION:Meal served 6:30 PM \nChildcare provided.
URL:https://www.hbcdg.org/event/atone-recovery-107/
LOCATION:Fellowship Hall 8800 Rose Ave\, Douglasville\, GA 30134\, USA
CATEGORIES:Outreach Ministry
END:VEVENT
BEGIN:VEVENT
DTSTART;TZID=UTC:20250901T180000
DTEND;TZID=UTC:20250901T190000
DTSTAMP:20260423T133725
CREATED:20250827T172542Z
LAST-MODIFIED:20250827T172542Z
UID:2391-1756749600-1756753200@www.hbcdg.org
SUMMARY:Benton House - 1st Monday Monthly
DESCRIPTION:
URL:https://www.hbcdg.org/event/benton-house-1st-monday-monthly/
LOCATION:Benton House Douglasville\, Ga\, 4999 Prestley Mill Rd\, Douglasville\, GA\, United States
CATEGORIES:Outreach Ministry
END:VEVENT
BEGIN:VEVENT
DTSTART;TZID=UTC:20250918T110000
DTEND;TZID=UTC:20250918T130000
DTSTAMP:20260423T133725
CREATED:20250102T202718Z
LAST-MODIFIED:20250102T202718Z
UID:2054-1758193200-1758200400@www.hbcdg.org
SUMMARY:Pioneers - 55+ 3rd Thursday Monthly
DESCRIPTION:
URL:https://www.hbcdg.org/event/pioneers-55-3rd-thursday-monthly-17/
LOCATION:Fellowship Hall 8800 Rose Ave\, Douglasville\, GA 30134\, USA
CATEGORIES:Outreach Ministry
END:VEVENT
BEGIN:VEVENT
DTSTART;TZID=UTC:20251006T180000
DTEND;TZID=UTC:20251006T190000
DTSTAMP:20260423T133725
CREATED:20250827T172731Z
LAST-MODIFIED:20250827T172731Z
UID:2392-1759773600-1759777200@www.hbcdg.org
SUMMARY:Benton House - 1st Monday Monthly
DESCRIPTION:
URL:https://www.hbcdg.org/event/benton-house-1st-monday-monthly-2/
LOCATION:Benton House Douglasville\, Ga\, 4999 Prestley Mill Rd\, Douglasville\, GA\, United States
CATEGORIES:Outreach Ministry
END:VEVENT
BEGIN:VEVENT
DTSTART;TZID=UTC:20251016T110000
DTEND;TZID=UTC:20251016T130000
DTSTAMP:20260423T133725
CREATED:20250102T202818Z
LAST-MODIFIED:20250922T125348Z
UID:2055-1760612400-1760619600@www.hbcdg.org
SUMMARY:Pioneers - 55+ 3rd Thursday Monthly
DESCRIPTION:
URL:https://www.hbcdg.org/event/pioneers-55-3rd-thursday-monthly-18/
LOCATION:Fellowship Hall 8800 Rose Ave\, Douglasville\, GA 30134\, USA
CATEGORIES:Outreach Ministry
END:VEVENT
BEGIN:VEVENT
DTSTART;TZID=UTC:20251026T160000
DTEND;TZID=UTC:20251026T193000
DTSTAMP:20260423T133725
CREATED:20250929T185344Z
LAST-MODIFIED:20250929T185921Z
UID:2407-1761494400-1761507000@www.hbcdg.org
SUMMARY:Fall Festival - Everyone Invited!
DESCRIPTION:We will have hot dogs\, games\, bounce house and obstacle course inflatables too!
URL:https://www.hbcdg.org/event/trunk-of-treat/
LOCATION:Heritage Baptist Church\, 8800 Rose Ave\, Douglasville\, GA 30134\, USA
CATEGORIES:Outreach Ministry
END:VEVENT
BEGIN:VEVENT
DTSTART;TZID=UTC:20251103T180000
DTEND;TZID=UTC:20251103T190000
DTSTAMP:20260423T133725
CREATED:20250827T172812Z
LAST-MODIFIED:20250827T172812Z
UID:2393-1762192800-1762196400@www.hbcdg.org
SUMMARY:Benton House - 1st Monday Monthly
DESCRIPTION:
URL:https://www.hbcdg.org/event/benton-house-1st-monday-monthly-3/
LOCATION:Benton House Douglasville\, Ga\, 4999 Prestley Mill Rd\, Douglasville\, GA\, United States
CATEGORIES:Outreach Ministry
END:VEVENT
BEGIN:VEVENT
DTSTART;TZID=UTC:20251104T190000
DTEND;TZID=UTC:20251104T210000
DTSTAMP:20260423T133725
CREATED:20251104T184559Z
LAST-MODIFIED:20251104T184559Z
UID:2425-1762282800-1762290000@www.hbcdg.org
SUMMARY:AtOne Recovery
DESCRIPTION:Meal served 6:30 pm\, childcare provided.
URL:https://www.hbcdg.org/event/atone-recovery-108/
LOCATION:Fellowship Hall 8800 Rose Ave\, Douglasville\, GA 30134\, USA
CATEGORIES:Outreach Ministry
END:VEVENT
BEGIN:VEVENT
DTSTART;TZID=UTC:20251111T190000
DTEND;TZID=UTC:20251111T210000
DTSTAMP:20260423T133725
CREATED:20251104T184654Z
LAST-MODIFIED:20251104T184654Z
UID:2426-1762887600-1762894800@www.hbcdg.org
SUMMARY:AtOne Recovery
DESCRIPTION:Meal served 6:30 pm\, childcare provided.
URL:https://www.hbcdg.org/event/atone-recovery-109/
LOCATION:Fellowship Hall 8800 Rose Ave\, Douglasville\, GA 30134\, USA
CATEGORIES:Outreach Ministry
END:VEVENT
BEGIN:VEVENT
DTSTART;TZID=UTC:20251118T190000
DTEND;TZID=UTC:20251118T210000
DTSTAMP:20260423T133725
CREATED:20251104T184748Z
LAST-MODIFIED:20251104T184748Z
UID:2427-1763492400-1763499600@www.hbcdg.org
SUMMARY:AtOne Recovery
DESCRIPTION:Meal served 6:30 pm\, childcare provided.
URL:https://www.hbcdg.org/event/atone-recovery-110/
LOCATION:Fellowship Hall 8800 Rose Ave\, Douglasville\, GA 30134\, USA
CATEGORIES:Outreach Ministry
END:VEVENT
BEGIN:VEVENT
DTSTART;TZID=UTC:20251120T110000
DTEND;TZID=UTC:20251120T130000
DTSTAMP:20260423T133725
CREATED:20250102T202905Z
LAST-MODIFIED:20251013T150955Z
UID:2056-1763636400-1763643600@www.hbcdg.org
SUMMARY:Pioneers - 55+ 3rd Thursday Monthly and WMU - special gathering
DESCRIPTION:
URL:https://www.hbcdg.org/event/pioneers-55-3rd-thursday-monthly-19/
LOCATION:Fellowship Hall 8800 Rose Ave\, Douglasville\, GA 30134\, USA
CATEGORIES:Outreach Ministry
END:VEVENT
BEGIN:VEVENT
DTSTART;TZID=UTC:20251125T190000
DTEND;TZID=UTC:20251125T210000
DTSTAMP:20260423T133725
CREATED:20251104T184845Z
LAST-MODIFIED:20251104T184845Z
UID:2428-1764097200-1764104400@www.hbcdg.org
SUMMARY:AtOne Recovery
DESCRIPTION:Meal served 6:30 pm\, childcare provided.
URL:https://www.hbcdg.org/event/atone-recovery-111/
LOCATION:Fellowship Hall 8800 Rose Ave\, Douglasville\, GA 30134\, USA
CATEGORIES:Outreach Ministry
END:VEVENT
BEGIN:VEVENT
DTSTART;TZID=UTC:20251201T180000
DTEND;TZID=UTC:20251201T190000
DTSTAMP:20260423T133725
CREATED:20250827T172852Z
LAST-MODIFIED:20250827T172852Z
UID:2394-1764612000-1764615600@www.hbcdg.org
SUMMARY:Benton House - 1st Monday Monthly
DESCRIPTION:
URL:https://www.hbcdg.org/event/benton-house-1st-monday-monthly-4/
LOCATION:Benton House Douglasville\, Ga\, 4999 Prestley Mill Rd\, Douglasville\, GA\, United States
CATEGORIES:Outreach Ministry
END:VEVENT
BEGIN:VEVENT
DTSTART;TZID=UTC:20251202T190000
DTEND;TZID=UTC:20251202T210000
DTSTAMP:20260423T133725
CREATED:20251217T164348Z
LAST-MODIFIED:20251217T164348Z
UID:2457-1764702000-1764709200@www.hbcdg.org
SUMMARY:AtOne Recovery
DESCRIPTION:Meal served 6:30 pm \nChildcare provided.
URL:https://www.hbcdg.org/event/atone-recovery-112/
LOCATION:Fellowship Hall 8800 Rose Ave\, Douglasville\, GA 30134\, USA
CATEGORIES:Outreach Ministry
END:VEVENT
BEGIN:VEVENT
DTSTART;TZID=UTC:20251206T080000
DTEND;TZID=UTC:20251206T140000
DTSTAMP:20260423T133725
CREATED:20250625T151612Z
LAST-MODIFIED:20250625T151612Z
UID:2334-1765008000-1765029600@www.hbcdg.org
SUMMARY:Operation Christmas - Pastor Brian Berryhill
DESCRIPTION:
URL:https://www.hbcdg.org/event/operation-christmas-pastor-brian-berryhill/
LOCATION:Fellowship Hall 8800 Rose Ave\, Douglasville\, GA 30134\, USA
CATEGORIES:Outreach Ministry
END:VEVENT
BEGIN:VEVENT
DTSTART;TZID=UTC:20251209T190000
DTEND;TZID=UTC:20251209T210000
DTSTAMP:20260423T133725
CREATED:20251217T164447Z
LAST-MODIFIED:20251217T164447Z
UID:2458-1765306800-1765314000@www.hbcdg.org
SUMMARY:AtOne Recovery
DESCRIPTION:Meal served 6:30 pm. \nChildcare provided.
URL:https://www.hbcdg.org/event/atone-recovery-113/
LOCATION:Fellowship Hall 8800 Rose Ave\, Douglasville\, GA 30134\, USA
CATEGORIES:Outreach Ministry
END:VEVENT
BEGIN:VEVENT
DTSTART;TZID=UTC:20251216T190000
DTEND;TZID=UTC:20251216T210000
DTSTAMP:20260423T133725
CREATED:20251217T164542Z
LAST-MODIFIED:20251217T164542Z
UID:2459-1765911600-1765918800@www.hbcdg.org
SUMMARY:AtOne Recovery
DESCRIPTION:Meal served 6:30pm \nChildcare provided.
URL:https://www.hbcdg.org/event/atone-recovery-114/
LOCATION:Fellowship Hall 8800 Rose Ave\, Douglasville\, GA 30134\, USA
CATEGORIES:Outreach Ministry
END:VEVENT
BEGIN:VEVENT
DTSTART;TZID=UTC:20251223T190000
DTEND;TZID=UTC:20251223T210000
DTSTAMP:20260423T133725
CREATED:20251217T164754Z
LAST-MODIFIED:20251217T164754Z
UID:2461-1766516400-1766523600@www.hbcdg.org
SUMMARY:AtOne Recovery
DESCRIPTION:Meal served 6:30 pm \nChildcare provided
URL:https://www.hbcdg.org/event/atone-recovery-116/
LOCATION:Fellowship Hall 8800 Rose Ave\, Douglasville\, GA 30134\, USA
CATEGORIES:Outreach Ministry
END:VEVENT
BEGIN:VEVENT
DTSTART;TZID=UTC:20251230T190000
DTEND;TZID=UTC:20251230T210000
DTSTAMP:20260423T133725
CREATED:20251217T165010Z
LAST-MODIFIED:20251217T165010Z
UID:2462-1767121200-1767128400@www.hbcdg.org
SUMMARY:AtOne Recovery
DESCRIPTION:Meal served 6:30 pm \nChildcare provided.
URL:https://www.hbcdg.org/event/atone-recovery-117/
LOCATION:Fellowship Hall 8800 Rose Ave\, Douglasville\, GA 30134\, USA
CATEGORIES:Outreach Ministry
END:VEVENT
BEGIN:VEVENT
DTSTART;TZID=UTC:20260105T180000
DTEND;TZID=UTC:20260105T190000
DTSTAMP:20260423T133725
CREATED:20251217T164105Z
LAST-MODIFIED:20251217T164105Z
UID:2456-1767636000-1767639600@www.hbcdg.org
SUMMARY:Benton House - 1st Monday Monthly
DESCRIPTION:
URL:https://www.hbcdg.org/event/benton-house-1st-monday-monthly-5/
LOCATION:Benton House Douglasville\, Ga\, 4999 Prestley Mill Rd\, Douglasville\, GA\, United States
CATEGORIES:Outreach Ministry
END:VEVENT
BEGIN:VEVENT
DTSTART;TZID=UTC:20260106T190000
DTEND;TZID=UTC:20260106T210000
DTSTAMP:20260423T133725
CREATED:20251217T165610Z
LAST-MODIFIED:20251217T165610Z
UID:2463-1767726000-1767733200@www.hbcdg.org
SUMMARY:AtOne Recovery
DESCRIPTION:Meal served 6:30 pm \nChildcare provided.
URL:https://www.hbcdg.org/event/atone-recovery-115/
LOCATION:Fellowship Hall 8800 Rose Ave\, Douglasville\, GA 30134\, USA
CATEGORIES:Outreach Ministry
END:VEVENT
BEGIN:VEVENT
DTSTART;TZID=UTC:20260113T190000
DTEND;TZID=UTC:20260113T210000
DTSTAMP:20260423T133725
CREATED:20260112T150608Z
LAST-MODIFIED:20260112T152016Z
UID:2512-1768330800-1768338000@www.hbcdg.org
SUMMARY:AtOne Recovery
DESCRIPTION:Meal served 6:30 PM \nChildcare provided.
URL:https://www.hbcdg.org/event/atone-recovery-118/
LOCATION:Fellowship Hall 8800 Rose Ave\, Douglasville\, GA 30134\, USA
CATEGORIES:Outreach Ministry
END:VEVENT
END:VCALENDAR