BEGIN:VCALENDAR
VERSION:2.0
PRODID:-//Heritage Baptist Church - ECPv6.15.20//NONSGML v1.0//EN
CALSCALE:GREGORIAN
METHOD:PUBLISH
X-ORIGINAL-URL:https://www.hbcdg.org
X-WR-CALDESC:Events for Heritage Baptist Church
REFRESH-INTERVAL;VALUE=DURATION:PT1H
X-Robots-Tag:noindex
X-PUBLISHED-TTL:PT1H
BEGIN:VTIMEZONE
TZID:UTC
BEGIN:STANDARD
TZOFFSETFROM:+0000
TZOFFSETTO:+0000
TZNAME:UTC
DTSTART:20240101T000000
END:STANDARD
END:VTIMEZONE
BEGIN:VEVENT
DTSTART;TZID=UTC:20251216T190000
DTEND;TZID=UTC:20251216T210000
DTSTAMP:20260423T163547
CREATED:20251217T164542Z
LAST-MODIFIED:20251217T164542Z
UID:2459-1765911600-1765918800@www.hbcdg.org
SUMMARY:AtOne Recovery
DESCRIPTION:Meal served 6:30pm \nChildcare provided.
URL:https://www.hbcdg.org/event/atone-recovery-114/
LOCATION:Fellowship Hall 8800 Rose Ave\, Douglasville\, GA 30134\, USA
CATEGORIES:Outreach Ministry
END:VEVENT
BEGIN:VEVENT
DTSTART;TZID=UTC:20251223T190000
DTEND;TZID=UTC:20251223T210000
DTSTAMP:20260423T163547
CREATED:20251217T164754Z
LAST-MODIFIED:20251217T164754Z
UID:2461-1766516400-1766523600@www.hbcdg.org
SUMMARY:AtOne Recovery
DESCRIPTION:Meal served 6:30 pm \nChildcare provided
URL:https://www.hbcdg.org/event/atone-recovery-116/
LOCATION:Fellowship Hall 8800 Rose Ave\, Douglasville\, GA 30134\, USA
CATEGORIES:Outreach Ministry
END:VEVENT
BEGIN:VEVENT
DTSTART;TZID=UTC:20251230T190000
DTEND;TZID=UTC:20251230T210000
DTSTAMP:20260423T163547
CREATED:20251217T165010Z
LAST-MODIFIED:20251217T165010Z
UID:2462-1767121200-1767128400@www.hbcdg.org
SUMMARY:AtOne Recovery
DESCRIPTION:Meal served 6:30 pm \nChildcare provided.
URL:https://www.hbcdg.org/event/atone-recovery-117/
LOCATION:Fellowship Hall 8800 Rose Ave\, Douglasville\, GA 30134\, USA
CATEGORIES:Outreach Ministry
END:VEVENT
BEGIN:VEVENT
DTSTART;TZID=UTC:20260105T180000
DTEND;TZID=UTC:20260105T190000
DTSTAMP:20260423T163547
CREATED:20251217T164105Z
LAST-MODIFIED:20251217T164105Z
UID:2456-1767636000-1767639600@www.hbcdg.org
SUMMARY:Benton House - 1st Monday Monthly
DESCRIPTION:
URL:https://www.hbcdg.org/event/benton-house-1st-monday-monthly-5/
LOCATION:Benton House Douglasville\, Ga\, 4999 Prestley Mill Rd\, Douglasville\, GA\, United States
CATEGORIES:Outreach Ministry
END:VEVENT
BEGIN:VEVENT
DTSTART;TZID=UTC:20260106T190000
DTEND;TZID=UTC:20260106T210000
DTSTAMP:20260423T163547
CREATED:20251217T165610Z
LAST-MODIFIED:20251217T165610Z
UID:2463-1767726000-1767733200@www.hbcdg.org
SUMMARY:AtOne Recovery
DESCRIPTION:Meal served 6:30 pm \nChildcare provided.
URL:https://www.hbcdg.org/event/atone-recovery-115/
LOCATION:Fellowship Hall 8800 Rose Ave\, Douglasville\, GA 30134\, USA
CATEGORIES:Outreach Ministry
END:VEVENT
BEGIN:VEVENT
DTSTART;TZID=UTC:20260113T190000
DTEND;TZID=UTC:20260113T210000
DTSTAMP:20260423T163547
CREATED:20260112T150608Z
LAST-MODIFIED:20260112T152016Z
UID:2512-1768330800-1768338000@www.hbcdg.org
SUMMARY:AtOne Recovery
DESCRIPTION:Meal served 6:30 PM \nChildcare provided.
URL:https://www.hbcdg.org/event/atone-recovery-118/
LOCATION:Fellowship Hall 8800 Rose Ave\, Douglasville\, GA 30134\, USA
CATEGORIES:Outreach Ministry
END:VEVENT
BEGIN:VEVENT
DTSTART;TZID=UTC:20260115T110000
DTEND;TZID=UTC:20260115T130000
DTSTAMP:20260423T163547
CREATED:20251217T170427Z
LAST-MODIFIED:20251217T170427Z
UID:2464-1768474800-1768482000@www.hbcdg.org
SUMMARY:Pioneers - 3rd Thursday Monthly
DESCRIPTION:
URL:https://www.hbcdg.org/event/pioneers-3rd-thursday-monthly/
LOCATION:Fellowship Hall 8800 Rose Ave\, Douglasville\, GA 30134\, USA
CATEGORIES:Outreach Ministry
END:VEVENT
BEGIN:VEVENT
DTSTART;TZID=UTC:20260120T190000
DTEND;TZID=UTC:20260120T210000
DTSTAMP:20260423T163547
CREATED:20260112T152131Z
LAST-MODIFIED:20260112T152816Z
UID:2513-1768935600-1768942800@www.hbcdg.org
SUMMARY:AtOne Recovery
DESCRIPTION:meal served 6:30 PM \nchildcare provided
URL:https://www.hbcdg.org/event/atone-recovery-119/
LOCATION:Fellowship Hall 8800 Rose Ave\, Douglasville\, GA 30134\, USA
CATEGORIES:Outreach Ministry
END:VEVENT
BEGIN:VEVENT
DTSTART;TZID=UTC:20260127T190000
DTEND;TZID=UTC:20260127T210000
DTSTAMP:20260423T163547
CREATED:20260112T152530Z
LAST-MODIFIED:20260112T152928Z
UID:2514-1769540400-1769547600@www.hbcdg.org
SUMMARY:AtOne Recovery
DESCRIPTION:meal served \nchildcare provided
URL:https://www.hbcdg.org/event/atone-recovery-120/
LOCATION:Fellowship Hall 8800 Rose Ave\, Douglasville\, GA 30134\, USA
CATEGORIES:Outreach Ministry
END:VEVENT
BEGIN:VEVENT
DTSTART;TZID=UTC:20260202T180000
DTEND;TZID=UTC:20260202T190000
DTSTAMP:20260423T163547
CREATED:20260112T145906Z
LAST-MODIFIED:20260112T145906Z
UID:2508-1770055200-1770058800@www.hbcdg.org
SUMMARY:Benton House - 1st Monday Monthly
DESCRIPTION:
URL:https://www.hbcdg.org/event/benton-house-1st-monday-monthly-6/
LOCATION:Benton House Douglasville\, Ga\, 4999 Prestley Mill Rd\, Douglasville\, GA\, United States
CATEGORIES:Outreach Ministry
END:VEVENT
BEGIN:VEVENT
DTSTART;TZID=UTC:20260210T190000
DTEND;TZID=UTC:20260210T210000
DTSTAMP:20260423T163547
CREATED:20260112T153340Z
LAST-MODIFIED:20260112T153340Z
UID:2516-1770750000-1770757200@www.hbcdg.org
SUMMARY:AtOne Recovery
DESCRIPTION:meal served 6:30 PM \nchildcare provided
URL:https://www.hbcdg.org/event/atone-recovery-122/
LOCATION:Fellowship Hall 8800 Rose Ave\, Douglasville\, GA 30134\, USA
CATEGORIES:Outreach Ministry
END:VEVENT
BEGIN:VEVENT
DTSTART;TZID=UTC:20260217T190000
DTEND;TZID=UTC:20260217T210000
DTSTAMP:20260423T163547
CREATED:20260112T153129Z
LAST-MODIFIED:20260112T154110Z
UID:2515-1771354800-1771362000@www.hbcdg.org
SUMMARY:AtOne Recovery
DESCRIPTION:meal served 6:30 PM \nchildcare provided
URL:https://www.hbcdg.org/event/atone-recovery-121/
LOCATION:Fellowship Hall 8800 Rose Ave\, Douglasville\, GA 30134\, USA
CATEGORIES:Outreach Ministry
END:VEVENT
BEGIN:VEVENT
DTSTART;TZID=UTC:20260219T110000
DTEND;TZID=UTC:20260219T130000
DTSTAMP:20260423T163547
CREATED:20260112T145220Z
LAST-MODIFIED:20260112T145343Z
UID:2504-1771498800-1771506000@www.hbcdg.org
SUMMARY:Pioneers - 3rd Thursday Monthly
DESCRIPTION:Lunch served
URL:https://www.hbcdg.org/event/pioneers-3rd-thursday-monthly-2/
LOCATION:Fellowship Hall 8800 Rose Ave\, Douglasville\, GA 30134\, USA
CATEGORIES:Outreach Ministry
END:VEVENT
BEGIN:VEVENT
DTSTART;TZID=UTC:20260224T190000
DTEND;TZID=UTC:20260224T210000
DTSTAMP:20260423T163547
CREATED:20260112T153437Z
LAST-MODIFIED:20260112T153437Z
UID:2517-1771959600-1771966800@www.hbcdg.org
SUMMARY:AtOne Recovery
DESCRIPTION:meal served 6:30 PM \nchildcare provided \n 
URL:https://www.hbcdg.org/event/atone-recovery-123/
LOCATION:Fellowship Hall 8800 Rose Ave\, Douglasville\, GA 30134\, USA
CATEGORIES:Outreach Ministry
END:VEVENT
BEGIN:VEVENT
DTSTART;TZID=UTC:20260302T180000
DTEND;TZID=UTC:20260302T190000
DTSTAMP:20260423T163547
CREATED:20260112T145957Z
LAST-MODIFIED:20260112T145957Z
UID:2509-1772474400-1772478000@www.hbcdg.org
SUMMARY:Benton House - 1st Monday Monthly
DESCRIPTION:
URL:https://www.hbcdg.org/event/benton-house-1st-monday-monthly-7/
LOCATION:Benton House Douglasville\, Ga\, 4999 Prestley Mill Rd\, Douglasville\, GA\, United States
CATEGORIES:Outreach Ministry
END:VEVENT
BEGIN:VEVENT
DTSTART;TZID=UTC:20260304T140000
DTEND;TZID=UTC:20260304T170000
DTSTAMP:20260423T163547
CREATED:20260216T155058Z
LAST-MODIFIED:20260216T155058Z
UID:2548-1772632800-1772643600@www.hbcdg.org
SUMMARY:Pioneer Afternoon Movie Day
DESCRIPTION:
URL:https://www.hbcdg.org/event/pioneer-afternoon-movie-day/
LOCATION:Fellowship Hall 8800 Rose Ave\, Douglasville\, GA 30134\, USA
CATEGORIES:Outreach Ministry
END:VEVENT
BEGIN:VEVENT
DTSTART;TZID=UTC:20260310T190000
DTEND;TZID=UTC:20260310T210000
DTSTAMP:20260423T163547
CREATED:20260308T012933Z
LAST-MODIFIED:20260308T012933Z
UID:2583-1773169200-1773176400@www.hbcdg.org
SUMMARY:AtOne Recovery
DESCRIPTION:Meal served 6:30 PM \nChildcare provided.
URL:https://www.hbcdg.org/event/atone-recovery-124/
LOCATION:Fellowship Hall 8800 Rose Ave\, Douglasville\, GA 30134\, USA
CATEGORIES:Outreach Ministry
END:VEVENT
BEGIN:VEVENT
DTSTART;TZID=UTC:20260317T190000
DTEND;TZID=UTC:20260317T210000
DTSTAMP:20260423T163547
CREATED:20260308T013027Z
LAST-MODIFIED:20260308T013027Z
UID:2584-1773774000-1773781200@www.hbcdg.org
SUMMARY:AtOne Recovery
DESCRIPTION:Meal served 6:30 PM \nChildcare provided.
URL:https://www.hbcdg.org/event/atone-recovery-125/
LOCATION:Fellowship Hall 8800 Rose Ave\, Douglasville\, GA 30134\, USA
CATEGORIES:Outreach Ministry
END:VEVENT
BEGIN:VEVENT
DTSTART;TZID=UTC:20260319T110000
DTEND;TZID=UTC:20260319T130000
DTSTAMP:20260423T163547
CREATED:20260308T015151Z
LAST-MODIFIED:20260308T015151Z
UID:2589-1773918000-1773925200@www.hbcdg.org
SUMMARY:Pioneers - 3rd Thursday Monthly
DESCRIPTION:
URL:https://www.hbcdg.org/event/pioneers-3rd-thursday-monthly-6/
LOCATION:Fellowship Hall 8800 Rose Ave\, Douglasville\, GA 30134\, USA
CATEGORIES:Outreach Ministry
END:VEVENT
BEGIN:VEVENT
DTSTART;TZID=UTC:20260324T190000
DTEND;TZID=UTC:20260324T210000
DTSTAMP:20260423T163547
CREATED:20260308T013248Z
LAST-MODIFIED:20260308T013248Z
UID:2585-1774378800-1774386000@www.hbcdg.org
SUMMARY:AtOne Recovery
DESCRIPTION:Meal served 6:30 PM \nChildcare provided.
URL:https://www.hbcdg.org/event/atone-recovery-126/
CATEGORIES:Outreach Ministry
END:VEVENT
BEGIN:VEVENT
DTSTART;TZID=UTC:20260331T190000
DTEND;TZID=UTC:20260331T210000
DTSTAMP:20260423T163547
CREATED:20260308T014134Z
LAST-MODIFIED:20260308T014134Z
UID:2586-1774983600-1774990800@www.hbcdg.org
SUMMARY:AtOne Recovery
DESCRIPTION:Meal served 6:30 PM \nChildcare provided.
URL:https://www.hbcdg.org/event/atone-recovery-127/
CATEGORIES:Outreach Ministry
END:VEVENT
BEGIN:VEVENT
DTSTART;TZID=UTC:20260406T180000
DTEND;TZID=UTC:20260406T190000
DTSTAMP:20260423T163547
CREATED:20260112T150100Z
LAST-MODIFIED:20260112T150100Z
UID:2510-1775498400-1775502000@www.hbcdg.org
SUMMARY:Benton House - 1st Monday Monthly
DESCRIPTION:
URL:https://www.hbcdg.org/event/benton-house-1st-monday-monthly-8/
LOCATION:Benton House Douglasville\, Ga\, 4999 Prestley Mill Rd\, Douglasville\, GA\, United States
CATEGORIES:Outreach Ministry
END:VEVENT
BEGIN:VEVENT
DTSTART;TZID=UTC:20260407T190000
DTEND;TZID=UTC:20260407T210000
DTSTAMP:20260423T163547
CREATED:20260308T014339Z
LAST-MODIFIED:20260308T014339Z
UID:2587-1775588400-1775595600@www.hbcdg.org
SUMMARY:AtOne Recovery
DESCRIPTION:Meal served 6:30 PM \nChildcare provided
URL:https://www.hbcdg.org/event/atone-recovery-128/
LOCATION:Fellowship Hall 8800 Rose Ave\, Douglasville\, GA 30134\, USA
CATEGORIES:Outreach Ministry
END:VEVENT
BEGIN:VEVENT
DTSTART;TZID=UTC:20260416T110000
DTEND;TZID=UTC:20260416T130000
DTSTAMP:20260423T163547
CREATED:20260112T145439Z
LAST-MODIFIED:20260112T145439Z
UID:2506-1776337200-1776344400@www.hbcdg.org
SUMMARY:Pioneers - 3rd Thursday Monthly
DESCRIPTION:Lunch served
URL:https://www.hbcdg.org/event/pioneers-3rd-thursday-monthly-4/
LOCATION:Fellowship Hall 8800 Rose Ave\, Douglasville\, GA 30134\, USA
CATEGORIES:Outreach Ministry
END:VEVENT
BEGIN:VEVENT
DTSTART;TZID=UTC:20260421T190000
DTEND;TZID=UTC:20260421T210000
DTSTAMP:20260423T163547
CREATED:20260415T154943Z
LAST-MODIFIED:20260415T154943Z
UID:2629-1776798000-1776805200@www.hbcdg.org
SUMMARY:AtOne Recovery
DESCRIPTION:Meal served 6:30 PM \nChildcare provided.
URL:https://www.hbcdg.org/event/atone-recovery-129/
LOCATION:Fellowship Hall 8800 Rose Ave\, Douglasville\, GA 30134\, USA
CATEGORIES:Outreach Ministry
END:VEVENT
BEGIN:VEVENT
DTSTART;TZID=UTC:20260428T190000
DTEND;TZID=UTC:20260428T210000
DTSTAMP:20260423T163547
CREATED:20260415T155037Z
LAST-MODIFIED:20260415T155037Z
UID:2630-1777402800-1777410000@www.hbcdg.org
SUMMARY:AtOne Recovery
DESCRIPTION:Meal served 6:30 PM \nChildcare provided.
URL:https://www.hbcdg.org/event/atone-recovery-130/
LOCATION:Fellowship Hall 8800 Rose Ave\, Douglasville\, GA 30134\, USA
CATEGORIES:Outreach Ministry
END:VEVENT
BEGIN:VEVENT
DTSTART;TZID=UTC:20260429T140000
DTEND;TZID=UTC:20260429T160000
DTSTAMP:20260423T163547
CREATED:20260415T155635Z
LAST-MODIFIED:20260415T155722Z
UID:2632-1777471200-1777478400@www.hbcdg.org
SUMMARY:Movie Day - Orphan Horse
DESCRIPTION:Popcorn and drink provided.
URL:https://www.hbcdg.org/event/movie-day/
LOCATION:Fellowship Hall 8800 Rose Ave\, Douglasville\, GA 30134\, USA
CATEGORIES:Outreach Ministry
END:VEVENT
BEGIN:VEVENT
DTSTART;TZID=UTC:20260504T180000
DTEND;TZID=UTC:20260504T190000
DTSTAMP:20260423T163547
CREATED:20260112T150231Z
LAST-MODIFIED:20260112T150231Z
UID:2511-1777917600-1777921200@www.hbcdg.org
SUMMARY:Benton House - 1st Monday Monthly
DESCRIPTION:
URL:https://www.hbcdg.org/event/benton-house-1st-monday-monthly-9/
LOCATION:Benton House Douglasville\, Ga\, 4999 Prestley Mill Rd\, Douglasville\, GA\, United States
CATEGORIES:Outreach Ministry
END:VEVENT
BEGIN:VEVENT
DTSTART;TZID=UTC:20260505T190000
DTEND;TZID=UTC:20260505T210000
DTSTAMP:20260423T163547
CREATED:20260415T155246Z
LAST-MODIFIED:20260415T155450Z
UID:2631-1778007600-1778014800@www.hbcdg.org
SUMMARY:AtOne Recovery
DESCRIPTION:Meal served 6:30 PM \nChildcare provided.
URL:https://www.hbcdg.org/event/atone-recovery-131/
LOCATION:Fellowship Hall 8800 Rose Ave\, Douglasville\, GA 30134\, USA
CATEGORIES:Outreach Ministry
END:VEVENT
BEGIN:VEVENT
DTSTART;TZID=UTC:20260521T110000
DTEND;TZID=UTC:20260521T130000
DTSTAMP:20260423T163547
CREATED:20260112T145534Z
LAST-MODIFIED:20260112T145534Z
UID:2507-1779361200-1779368400@www.hbcdg.org
SUMMARY:Pioneers - 3rd Thursday Monthly
DESCRIPTION:Lunch served
URL:https://www.hbcdg.org/event/pioneers-3rd-thursday-monthly-5/
LOCATION:Fellowship Hall 8800 Rose Ave\, Douglasville\, GA 30134\, USA
CATEGORIES:Outreach Ministry
END:VEVENT
END:VCALENDAR