BEGIN:VCALENDAR
VERSION:2.0
PRODID:-//Heritage Baptist Church - ECPv6.15.20//NONSGML v1.0//EN
CALSCALE:GREGORIAN
METHOD:PUBLISH
X-WR-CALNAME:Heritage Baptist Church
X-ORIGINAL-URL:https://www.hbcdg.org
X-WR-CALDESC:Events for Heritage Baptist Church
REFRESH-INTERVAL;VALUE=DURATION:PT1H
X-Robots-Tag:noindex
X-PUBLISHED-TTL:PT1H
BEGIN:VTIMEZONE
TZID:UTC
BEGIN:STANDARD
TZOFFSETFROM:+0000
TZOFFSETTO:+0000
TZNAME:UTC
DTSTART:20240101T000000
END:STANDARD
END:VTIMEZONE
BEGIN:VEVENT
DTSTART;TZID=UTC:20250506T190000
DTEND;TZID=UTC:20250506T210000
DTSTAMP:20260423T103722
CREATED:20250402T160557Z
LAST-MODIFIED:20250402T160557Z
UID:2227-1746558000-1746565200@www.hbcdg.org
SUMMARY:AtOne Recovery
DESCRIPTION:Meal served 6:30 PM\, childcare provided
URL:https://www.hbcdg.org/event/atone-recovery-91/
LOCATION:Fellowship Hall 8800 Rose Ave\, Douglasville\, GA 30134\, USA
CATEGORIES:Outreach Ministry
END:VEVENT
BEGIN:VEVENT
DTSTART;TZID=UTC:20250513T190000
DTEND;TZID=UTC:20250513T210000
DTSTAMP:20260423T103722
CREATED:20250402T160650Z
LAST-MODIFIED:20250402T160650Z
UID:2228-1747162800-1747170000@www.hbcdg.org
SUMMARY:AtOne Recovery
DESCRIPTION:Meal served 6:30 PM\, childcare provided
URL:https://www.hbcdg.org/event/atone-recovery-92/
LOCATION:Fellowship Hall 8800 Rose Ave\, Douglasville\, GA 30134\, USA
CATEGORIES:Outreach Ministry
END:VEVENT
BEGIN:VEVENT
DTSTART;TZID=UTC:20250515T110000
DTEND;TZID=UTC:20250515T130000
DTSTAMP:20260423T103722
CREATED:20250102T202224Z
LAST-MODIFIED:20250102T202224Z
UID:2050-1747306800-1747314000@www.hbcdg.org
SUMMARY:Pioneers - 55+ 3rd Thursday Monthly
DESCRIPTION:
URL:https://www.hbcdg.org/event/pioneers-55-3rd-thursday-monthly-13/
LOCATION:Fellowship Hall 8800 Rose Ave\, Douglasville\, GA 30134\, USA
CATEGORIES:Outreach Ministry
END:VEVENT
BEGIN:VEVENT
DTSTART;TZID=UTC:20250520T130000
DTEND;TZID=UTC:20250520T150000
DTSTAMP:20260423T103722
CREATED:20250402T164425Z
LAST-MODIFIED:20250402T164425Z
UID:2243-1747746000-1747753200@www.hbcdg.org
SUMMARY:Noggin Knitters 1st and 3rd Tuesday Monthly
DESCRIPTION:
URL:https://www.hbcdg.org/event/noggin-knitters-1st-and-3rd-tuesday-monthly-2/
LOCATION:Fellowship Hall 8800 Rose Ave\, Douglasville\, GA 30134\, USA
CATEGORIES:Outreach Ministry
END:VEVENT
BEGIN:VEVENT
DTSTART;TZID=UTC:20250520T190000
DTEND;TZID=UTC:20250520T210000
DTSTAMP:20260423T103722
CREATED:20250402T160804Z
LAST-MODIFIED:20250402T160804Z
UID:2229-1747767600-1747774800@www.hbcdg.org
SUMMARY:AtOne Recovery
DESCRIPTION:Meal served 6:30 PM\, childcare provided.
URL:https://www.hbcdg.org/event/atone-recovery-93/
LOCATION:Fellowship Hall 8800 Rose Ave\, Douglasville\, GA 30134\, USA
CATEGORIES:Outreach Ministry
END:VEVENT
BEGIN:VEVENT
DTSTART;TZID=UTC:20250527T190000
DTEND;TZID=UTC:20250527T210000
DTSTAMP:20260423T103722
CREATED:20250402T160859Z
LAST-MODIFIED:20250402T160859Z
UID:2230-1748372400-1748379600@www.hbcdg.org
SUMMARY:AtOne Recovery
DESCRIPTION:Meal served 6:30 PM\, childcare provided.
URL:https://www.hbcdg.org/event/atone-recovery-94/
LOCATION:Fellowship Hall 8800 Rose Ave\, Douglasville\, GA 30134\, USA
CATEGORIES:Outreach Ministry
END:VEVENT
BEGIN:VEVENT
DTSTART;TZID=UTC:20250603T130000
DTEND;TZID=UTC:20250603T150000
DTSTAMP:20260423T103722
CREATED:20250402T164521Z
LAST-MODIFIED:20250402T164521Z
UID:2244-1748955600-1748962800@www.hbcdg.org
SUMMARY:Noggin Knitters 1st and 3rd Tuesday Monthly
DESCRIPTION:
URL:https://www.hbcdg.org/event/noggin-knitters-1st-and-3rd-tuesday-monthly-3/
LOCATION:Fellowship Hall 8800 Rose Ave\, Douglasville\, GA 30134\, USA
CATEGORIES:Outreach Ministry
END:VEVENT
BEGIN:VEVENT
DTSTART;TZID=UTC:20250603T190000
DTEND;TZID=UTC:20250603T210000
DTSTAMP:20260423T103722
CREATED:20250402T160955Z
LAST-MODIFIED:20250402T160955Z
UID:2231-1748977200-1748984400@www.hbcdg.org
SUMMARY:AtOne Recovery
DESCRIPTION:Meal served 6:30 PM\, childcare provided.
URL:https://www.hbcdg.org/event/atone-recovery-95/
LOCATION:Fellowship Hall 8800 Rose Ave\, Douglasville\, GA 30134\, USA
CATEGORIES:Outreach Ministry
END:VEVENT
BEGIN:VEVENT
DTSTART;TZID=UTC:20250610T190000
DTEND;TZID=UTC:20250610T210000
DTSTAMP:20260423T103722
CREATED:20250613T110505Z
LAST-MODIFIED:20250613T110812Z
UID:2282-1749582000-1749589200@www.hbcdg.org
SUMMARY:AtOne Recovery
DESCRIPTION:Meal served 6:30 pm\, childcare provided.
URL:https://www.hbcdg.org/event/atone-recovery-97/
LOCATION:Fellowship Hall 8800 Rose Ave\, Douglasville\, GA 30134\, USA
CATEGORIES:Outreach Ministry
END:VEVENT
BEGIN:VEVENT
DTSTART;TZID=UTC:20250616T090000
DTEND;TZID=UTC:20250616T123000
DTSTAMP:20260423T103722
CREATED:20250111T170310Z
LAST-MODIFIED:20250318T112203Z
UID:2059-1750064400-1750077000@www.hbcdg.org
SUMMARY:Music Camp
DESCRIPTION:Camper Registration Form 25
URL:https://www.hbcdg.org/event/music-camp-6/
LOCATION:Heritage Baptist Church\, 8800 Rose Ave\, Douglasville\, GA 30134\, USA
CATEGORIES:Outreach Ministry
END:VEVENT
BEGIN:VEVENT
DTSTART;TZID=UTC:20250617T090000
DTEND;TZID=UTC:20250617T123000
DTSTAMP:20260423T103722
CREATED:20250111T170402Z
LAST-MODIFIED:20250318T112236Z
UID:2060-1750150800-1750163400@www.hbcdg.org
SUMMARY:Music Camp
DESCRIPTION:Camper Registration Form 25
URL:https://www.hbcdg.org/event/music-camp-7/
LOCATION:Heritage Baptist Church\, 8800 Rose Ave\, Douglasville\, GA 30134\, USA
CATEGORIES:Outreach Ministry
END:VEVENT
BEGIN:VEVENT
DTSTART;TZID=UTC:20250617T130000
DTEND;TZID=UTC:20250617T150000
DTSTAMP:20260423T103722
CREATED:20250613T114205Z
LAST-MODIFIED:20250613T114205Z
UID:2318-1750165200-1750172400@www.hbcdg.org
SUMMARY:Noggin Knitters - 1st and 3rd Tuesday Monthly
DESCRIPTION:
URL:https://www.hbcdg.org/event/noggin-knitters-1st-and-3rd-tuesday-monthly-4/
LOCATION:Fellowship Hall 8800 Rose Ave\, Douglasville\, GA 30134\, USA
CATEGORIES:Outreach Ministry
END:VEVENT
BEGIN:VEVENT
DTSTART;TZID=UTC:20250617T190000
DTEND;TZID=UTC:20250617T210000
DTSTAMP:20260423T103722
CREATED:20250613T110302Z
LAST-MODIFIED:20250617T204112Z
UID:2281-1750186800-1750194000@www.hbcdg.org
SUMMARY:AtOne Recovery
DESCRIPTION:Meal served 6:30 pm\, childcare provided.
URL:https://www.hbcdg.org/event/atone-recovery-96/
LOCATION:Fellowship Hall 8800 Rose Ave\, Douglasville\, GA 30134\, USA
CATEGORIES:Outreach Ministry
END:VEVENT
BEGIN:VEVENT
DTSTART;TZID=UTC:20250618T090000
DTEND;TZID=UTC:20250618T123000
DTSTAMP:20260423T103722
CREATED:20250318T112754Z
LAST-MODIFIED:20250318T113308Z
UID:2214-1750237200-1750249800@www.hbcdg.org
SUMMARY:Music Camp
DESCRIPTION:
URL:https://www.hbcdg.org/event/music-camp-8/
LOCATION:Heritage Baptist Church\, 8800 Rose Ave\, Douglasville\, GA 30134\, USA
CATEGORIES:Outreach Ministry
END:VEVENT
BEGIN:VEVENT
DTSTART;TZID=UTC:20250619T090000
DTEND;TZID=UTC:20250619T123000
DTSTAMP:20260423T103722
CREATED:20250111T171648Z
LAST-MODIFIED:20250318T112337Z
UID:2062-1750323600-1750336200@www.hbcdg.org
SUMMARY:Music Camp
DESCRIPTION:Camper Registration Form 25
URL:https://www.hbcdg.org/event/music-camp-9/
LOCATION:Heritage Baptist Church\, 8800 Rose Ave\, Douglasville\, GA 30134\, USA
CATEGORIES:Outreach Ministry
END:VEVENT
BEGIN:VEVENT
DTSTART;TZID=UTC:20250619T110000
DTEND;TZID=UTC:20250619T130000
DTSTAMP:20260423T103722
CREATED:20250102T202319Z
LAST-MODIFIED:20250319T103349Z
UID:2051-1750330800-1750338000@www.hbcdg.org
SUMMARY:Pioneers - 55+ 3rd Thursday Monthly
DESCRIPTION:
URL:https://www.hbcdg.org/event/pioneers-55-3rd-thursday-monthly-14/
LOCATION:Fellowship Hall 8800 Rose Ave\, Douglasville\, GA 30134\, USA
CATEGORIES:Outreach Ministry
END:VEVENT
BEGIN:VEVENT
DTSTART;TZID=UTC:20250620T090000
DTEND;TZID=UTC:20250620T123000
DTSTAMP:20260423T103722
CREATED:20250111T171941Z
LAST-MODIFIED:20250318T112403Z
UID:2063-1750410000-1750422600@www.hbcdg.org
SUMMARY:Music Camp
DESCRIPTION:Camper Registration Form 25
URL:https://www.hbcdg.org/event/music-camp-10/
LOCATION:Heritage Baptist Church\, 8800 Rose Ave\, Douglasville\, GA 30134\, USA
CATEGORIES:Outreach Ministry
END:VEVENT
BEGIN:VEVENT
DTSTART;TZID=UTC:20250624T190000
DTEND;TZID=UTC:20250624T210000
DTSTAMP:20260423T103722
CREATED:20250613T110559Z
LAST-MODIFIED:20250613T110737Z
UID:2283-1750791600-1750798800@www.hbcdg.org
SUMMARY:AtOne Recovery
DESCRIPTION:Meal served 6:30 pm\, childcare provided.
URL:https://www.hbcdg.org/event/atone-recovery-98/
LOCATION:Fellowship Hall 8800 Rose Ave\, Douglasville\, GA 30134\, USA
CATEGORIES:Outreach Ministry
END:VEVENT
BEGIN:VEVENT
DTSTART;TZID=UTC:20250701T130000
DTEND;TZID=UTC:20250701T150000
DTSTAMP:20260423T103722
CREATED:20250613T114334Z
LAST-MODIFIED:20250613T114334Z
UID:2319-1751374800-1751382000@www.hbcdg.org
SUMMARY:Noggin Knitters - 1st and 3rd Tuesday Monthly
DESCRIPTION:
URL:https://www.hbcdg.org/event/noggin-knitters-1st-and-3rd-tuesday-monthly-5/
LOCATION:Fellowship Hall 8800 Rose Ave\, Douglasville\, GA 30134\, USA
CATEGORIES:Outreach Ministry
END:VEVENT
BEGIN:VEVENT
DTSTART;TZID=UTC:20250701T190000
DTEND;TZID=UTC:20250701T210000
DTSTAMP:20260423T103722
CREATED:20250613T110941Z
LAST-MODIFIED:20250613T110941Z
UID:2284-1751396400-1751403600@www.hbcdg.org
SUMMARY:AtOne Recovery
DESCRIPTION:Meal served 6:30 pm\, childcare provided.
URL:https://www.hbcdg.org/event/atone-recovery-99/
LOCATION:Fellowship Hall 8800 Rose Ave\, Douglasville\, GA 30134\, USA
CATEGORIES:Outreach Ministry
END:VEVENT
BEGIN:VEVENT
DTSTART;TZID=UTC:20250707T180000
DTEND;TZID=UTC:20250707T190000
DTSTAMP:20260423T103722
CREATED:20250613T112140Z
LAST-MODIFIED:20250613T112233Z
UID:2297-1751911200-1751914800@www.hbcdg.org
SUMMARY:Benton House Bible Study 1st Monday Monthly
DESCRIPTION:
URL:https://www.hbcdg.org/event/benton-house-bible-study-3/
LOCATION:Benton House Douglasville\, Ga\, 4999 Prestley Mill Rd\, Douglasville\, GA\, United States
CATEGORIES:Outreach Ministry
END:VEVENT
BEGIN:VEVENT
DTSTART;TZID=UTC:20250708T190000
DTEND;TZID=UTC:20250708T210000
DTSTAMP:20260423T103722
CREATED:20250613T111038Z
LAST-MODIFIED:20250613T111038Z
UID:2285-1752001200-1752008400@www.hbcdg.org
SUMMARY:AtOne Recovery
DESCRIPTION:Meal served 6:30 pm\, childcare provided.
URL:https://www.hbcdg.org/event/atone-recovery-100/
LOCATION:Fellowship Hall 8800 Rose Ave\, Douglasville\, GA 30134\, USA
CATEGORIES:Outreach Ministry
END:VEVENT
BEGIN:VEVENT
DTSTART;TZID=UTC:20250715T130000
DTEND;TZID=UTC:20250715T150000
DTSTAMP:20260423T103722
CREATED:20250613T114416Z
LAST-MODIFIED:20250613T114416Z
UID:2320-1752584400-1752591600@www.hbcdg.org
SUMMARY:Noggin Knitters - 1st and 3rd Tuesday Monthly
DESCRIPTION:
URL:https://www.hbcdg.org/event/noggin-knitters-1st-and-3rd-tuesday-monthly-6/
LOCATION:Fellowship Hall 8800 Rose Ave\, Douglasville\, GA 30134\, USA
CATEGORIES:Outreach Ministry
END:VEVENT
BEGIN:VEVENT
DTSTART;TZID=UTC:20250715T190000
DTEND;TZID=UTC:20250715T210000
DTSTAMP:20260423T103722
CREATED:20250613T111150Z
LAST-MODIFIED:20250613T111150Z
UID:2286-1752606000-1752613200@www.hbcdg.org
SUMMARY:AtOne Recovery
DESCRIPTION:Meal served 6:30 pm\, childcare provided.
URL:https://www.hbcdg.org/event/atone-recovery-101/
LOCATION:Fellowship Hall 8800 Rose Ave\, Douglasville\, GA 30134\, USA
CATEGORIES:Outreach Ministry
END:VEVENT
BEGIN:VEVENT
DTSTART;TZID=UTC:20250717T110000
DTEND;TZID=UTC:20250717T130000
DTSTAMP:20260423T103722
CREATED:20250102T202412Z
LAST-MODIFIED:20250102T202412Z
UID:2052-1752750000-1752757200@www.hbcdg.org
SUMMARY:Pioneers - 55+ 3rd Thursday Monthly
DESCRIPTION:
URL:https://www.hbcdg.org/event/pioneers-55-3rd-thursday-monthly-15/
LOCATION:Fellowship Hall 8800 Rose Ave\, Douglasville\, GA 30134\, USA
CATEGORIES:Outreach Ministry
END:VEVENT
BEGIN:VEVENT
DTSTART;TZID=UTC:20250722T190000
DTEND;TZID=UTC:20250722T210000
DTSTAMP:20260423T103722
CREATED:20250613T111408Z
LAST-MODIFIED:20250613T111408Z
UID:2288-1753210800-1753218000@www.hbcdg.org
SUMMARY:AtOne Recovery
DESCRIPTION:Meal served 6:30 pm\, childcare provided.
URL:https://www.hbcdg.org/event/atone-recovery-103/
LOCATION:Fellowship Hall 8800 Rose Ave\, Douglasville\, GA 30134\, USA
CATEGORIES:Outreach Ministry
END:VEVENT
BEGIN:VEVENT
DTSTART;TZID=UTC:20250729T190000
DTEND;TZID=UTC:20250729T210000
DTSTAMP:20260423T103722
CREATED:20250613T111241Z
LAST-MODIFIED:20250613T111241Z
UID:2287-1753815600-1753822800@www.hbcdg.org
SUMMARY:AtOne Recovery
DESCRIPTION:Meal served 6:30 pm\, childcare provided.
URL:https://www.hbcdg.org/event/atone-recovery-102/
LOCATION:Fellowship Hall 8800 Rose Ave\, Douglasville\, GA 30134\, USA
CATEGORIES:Outreach Ministry
END:VEVENT
BEGIN:VEVENT
DTSTART;TZID=UTC:20250804T180000
DTEND;TZID=UTC:20250804T190000
DTSTAMP:20260423T103722
CREATED:20250728T133452Z
LAST-MODIFIED:20250728T133452Z
UID:2359-1754330400-1754334000@www.hbcdg.org
SUMMARY:Benton House - Bible Study\, 1st Monday Monthly
DESCRIPTION:
URL:https://www.hbcdg.org/event/benton-house-bible-study-1st-monday-monthly-10/
LOCATION:Benton House Douglasville\, Ga\, 4999 Prestley Mill Rd\, Douglasville\, GA\, United States
CATEGORIES:Outreach Ministry
END:VEVENT
BEGIN:VEVENT
DTSTART;TZID=UTC:20250805T190000
DTEND;TZID=UTC:20250805T210000
DTSTAMP:20260423T103722
CREATED:20250728T130515Z
LAST-MODIFIED:20250728T130515Z
UID:2342-1754420400-1754427600@www.hbcdg.org
SUMMARY:AtOne Recovery
DESCRIPTION:Meal served 6:30 PM \nChildcare provided.
URL:https://www.hbcdg.org/event/atone-recovery-104/
LOCATION:Fellowship Hall 8800 Rose Ave\, Douglasville\, GA 30134\, USA
CATEGORIES:Outreach Ministry
END:VEVENT
BEGIN:VEVENT
DTSTART;TZID=UTC:20250812T190000
DTEND;TZID=UTC:20250812T210000
DTSTAMP:20260423T103722
CREATED:20250728T130606Z
LAST-MODIFIED:20250728T130606Z
UID:2343-1755025200-1755032400@www.hbcdg.org
SUMMARY:AtOne Recovery
DESCRIPTION:Meal served 6:30 PM \nChildcare provided.
URL:https://www.hbcdg.org/event/atone-recovery-105/
LOCATION:Fellowship Hall 8800 Rose Ave\, Douglasville\, GA 30134\, USA
CATEGORIES:Outreach Ministry
END:VEVENT
END:VCALENDAR