BEGIN:VCALENDAR
VERSION:2.0
PRODID:-//Heritage Baptist Church - ECPv6.15.20//NONSGML v1.0//EN
CALSCALE:GREGORIAN
METHOD:PUBLISH
X-WR-CALNAME:Heritage Baptist Church
X-ORIGINAL-URL:https://www.hbcdg.org
X-WR-CALDESC:Events for Heritage Baptist Church
REFRESH-INTERVAL;VALUE=DURATION:PT1H
X-Robots-Tag:noindex
X-PUBLISHED-TTL:PT1H
BEGIN:VTIMEZONE
TZID:UTC
BEGIN:STANDARD
TZOFFSETFROM:+0000
TZOFFSETTO:+0000
TZNAME:UTC
DTSTART:20250101T000000
END:STANDARD
END:VTIMEZONE
BEGIN:VEVENT
DTSTART;TZID=UTC:20260428T100000
DTEND;TZID=UTC:20260428T120000
DTSTAMP:20260422T103104
CREATED:20260415T154248Z
LAST-MODIFIED:20260415T154248Z
UID:2623-1777370400-1777377600@www.hbcdg.org
SUMMARY:Ladies Bible Study
DESCRIPTION:
URL:https://www.hbcdg.org/event/ladies-bible-study-46/
LOCATION:Fellowship Hall 8800 Rose Ave\, Douglasville\, GA 30134\, USA
CATEGORIES:Ladies Ministry
END:VEVENT
BEGIN:VEVENT
DTSTART;TZID=UTC:20260505T100000
DTEND;TZID=UTC:20260505T120000
DTSTAMP:20260422T103104
CREATED:20260415T154338Z
LAST-MODIFIED:20260415T154338Z
UID:2624-1777975200-1777982400@www.hbcdg.org
SUMMARY:Ladies Bible Study
DESCRIPTION:
URL:https://www.hbcdg.org/event/ladies-bible-study-47/
LOCATION:Fellowship Hall 8800 Rose Ave\, Douglasville\, GA 30134\, USA
CATEGORIES:Ladies Ministry
END:VEVENT
END:VCALENDAR